Workbook

Sheet Page de garde
A2: Orientation « Personnes âgées »
A3: Grille d'évaluation TPP | H3: Note finale : | J3: =A49 -> 1
A5: Candidat-e
A6: Nom, Prénom | G6: Numéro
A9: Expert-e 1 (Nom, Prénom) | G9: Expert-e 2 (Nom, Prénom)
A12: Commentaires
A24: Lieu / Institution | G24: Date
A27: Échelle des points par critère
A28: Entièrement atteint = 3 points ; Majoritairement atteint = 2 points ; Partiellement atteint = 1 point ; Non-atteint = 0 point ; Non imputable = 3 points
A30: Calcul de la note finale du TPP
D33: Note | G33: Pondération | I33: Note pondérée*
A35: Missions pratiques (Point d’appréciation 1) | D35: ='Missions pratiques'!A365 -> 1 | G35: 0.7 | I35: =((D35*0.7)+(D38*0.3)) -> 1
A38: Entretien professionel (Point d’appréciation 2) | D38: ='Entretien professionnel'!A204 -> 1 | G38: 0.3
A43: *Calcul : (P1 x 0.7) + (P2 x 0.3) = Note pondérée
A44: (Exemple : (4.5 x 0.7) + (4 x 0.3) = 4.35. Note obtenue (arrondie à la première décimale): 4.4)
A47: Note obtenue au TPP (arrondie à la première décimale)
A49: =ROUND(I35,1) -> 1
A56: Signature Expert-e 1 | G56: Signature Expert-e 2

Sheet Missions pratiques
A2: Mission pratique 1 « Introduction des expert-es à l’examen »
A4: Objectifs évaluateurs prescrits | C4: Critères | E4: Remarques | K4: Points
A5: a1.1 … explique les descriptions de tâches et de rôles prédéfinis dans l’entreprise et agit en conséquence. (C3) | C5: Décrit, pour l’ensemble des trois missions (2-4), trois rôles différents au minimum dans l'interaction avec les personnes accompagnées | K5: 0
C10: Présente uniquement les éléments essentiels et pertinents en lien avec les missions pratiques | K10: 0
C15: Expose les prescriptions et/ou principes directeurs de l'institution (directives institutionnelles) pris en compte pour chaque mission pratique | K15: 0
C20: Justifie la sélection de l’objectif à choix pour chaque mission pratique | K20: 0
A27: Mission pratique 1 « Introduction des expert-es à l’examen »
A29: Objectifs évaluateurs prescrits | C29: Critères | E29: Remarques | K29: Points
A30: b1.1 … établit l’emploi du temps d’une journée en lien avec les activités. (C3) | C30: Présente de manière compréhensible le déroulement et la conception des missions pratiques, y compris les éventuels changements par rapport à la planification validée | K30: 0
C35: Justifie d’un point de vue professionnel le choix des activités planifiées pour les missions pratiques | K35: 0
C39: Présente les personnes concernées ainsi que leurs éventuelles spécificités | K39: 0
C43: Justifie le choix du groupe ou des personnes accompagnées | K43: 0
C47: Justifie le nombre de personnes accompagnées | K47: 0
A53: Mission pratique 1 « Introduction des expert-es à l’examen »
A55: Objectifs évaluateurs prescrits | C55: Critères | E55: Remarques | K55: Points
A56: d1.1 … transmet des informations pertinentes à l’équipe en utilisant le langage professionnel. (C3) | C56: Utilise le langage professionnel correctement et de manière adaptée à la situation | K56: 0
C62: Veille à une présentation structurée et compréhensible | K62: 0
C68: Décrit, d’un point de vue professionnel, ce à quoi il/elle portera une attention particulière lors de la mise en œuvre de chaque mission pratique | K68: 0
I74: Total des points | K74: =SUM(K5:L24,K30:L50,K56:L73) -> 0 | L74: / 36
I76: Pondération x0.5 | K76: =K74*0.5 -> 0 | L76: / 18
A82: Missions pratiques 2 – 3 – 4
A84: Objectifs évaluateurs transversaux* | C84: Critères | E84: Remarques | K84: Points
A85: a1.2 … agit de manière autonome dans le cadre de ses compétences. (C3) | C85: Veille au bon déroulement de l’activité en conservant l’entière responsabilité de sa réalisation | K85: 0
C90: Met en œuvre la planification du temps de manière optimale dans le cadre prescrit et l'adapte, si nécessaire, à la situation | K90: 0
C94: Veille à la sécurité des personnes accompagnées | K94: 0
C98: Adapte les offres d’activités à la situation et mobilise judicieusement les membres de l’équipe prévus en fonction du nombre de personnes accompagnées | K98: 0
C103: Veille à la prévention de la santé en respectant les normes d’hygiène | K103: 0
A110: Missions pratiques 2 – 3 – 4
A112: Objectifs évaluateurs transversaux* | C112: Critères | E112: Remarques | K112: Points
A113: a3.5 … se comporte de manière respectueuse, empathique et congruente dans ses relations professionnelles. (C3) | C113: Fait preuve d'une gestion professionnelle de la proximité et de la distance | K113: 0
C117: Adopte un langage corporel avenant | K117: 0
C121: Agit avec empathie | K121: 0
A125: a4.1 … communique de manière respectueuse en adaptant son message à la situation et au destinataire. (C3) | C125: Communique en adaptant son message aux destinataires | K125: 0
C129: Valorise les actions des personnes accompagnées | K129: 0
C133: Adapte la com-munication paraverbale à la situation et aux personnes accompagnées | K133: 0
J137: Total | K137: =K85+K90+K94+K98+K103+K113+K117+K121+K125+K129+K133 -> 0 | L137: / 33
A138: *Les objectifs évaluateurs transversaux sont évalués une fois sur l’ensemble des missions pratiques 2-3-4.
A141: Mission pratique « Situation du quotidien avec l'ensemble du groupe »
A143: Objectifs évaluateurs prescrits | C143: Critères | E143: Remarques | K143: Points
A144: b4.1 … aménage l'environnement quotidien pour les personnes accompagnées et pour lui/elle-même de manière optimale. (C3) | C144: Offre des repères | K144: 0
...

Sheet Entretien professionnel
A2: Entretien professionnel : critères d'évaluation pour la présentation de la réflexion de 10 minutes
A4: Objectifs évaluateurs | C4: Critères | E4: Remarques | K4: Points
A5: Réflexion
A6: a2.1 … analyse les situations professionnelles et ses propres actions professionnelles selon des aspects déontologiques. (C4) | C6: Présente la situation de manière structurée (Planification et déroulement) | K6: 0
C12: Analyse ses décisions de manière professionnelle et en tenant compte de la situation (Rôle professionnel) | K12: 0
C18: Décrit, évalue et justifie d’autres pistes d’action (Solutions alternatives) | K18: 0
A29: Entretien professionnel : critères d'évaluation pour l’entretien avec les expert-es (partie a et b)
A31: Objectifs évaluateurs | C31: Critères | E31: Remarques | K31: Points
A32: Communication
A33: d3.1 … communique avec les proches, les représentants légaux et les intervenants externes de manière adaptée à la situation. (C3) | C33: Présente les différentes situations de manière claire | K33: 0
C38: Utilise le langage professionnel correctement | K38: 0
C43: Parle de manière respectueuse des personnes accompagnées et/ou de l'équipe | K43: 0
C48: S'exprime clairement et à un rythme approprié | K48: 0
A54: Objectifs évaluateurs | C54: Critères | E54: Remarques | K54: Points
A55: Communication
A56: d2.1 … échange avec d’autres professionnels de façon ciblée et selon les besoins. (C3) | C56: Comprend les questions | K56: 0
C62: Répond aux questions avec pertinence | K62: 0
C68: Argumente ses réflexions de façon nuancée et compréhensible | K68: 0
A79: Objectifs évaluateurs | C79: Critères | E79: Remarques | K79: Points
A80: Réflexion
A81: a2.1 ... Analyse les situations professionnelles et ses propres actions professionnelles selon des aspects déontologiques. (C4) | C81: Porte le regard le plus objectif possible sur son travail | K81: 0
C86: Justifie de manière professionnelle les aspects déontologiques qui ont guidé son action | K86: 0
C91: Présente d’autres pistes d’actions pertinentes et les argumente d’un point de vue professionnel | K91: 0
C96: Évalue ses propres actions de manière critique et professionnelle | K96: 0
A105: Objectifs évaluateurs | C105: Critères | E105: Remarques | K105: Points
A106: Réflexion
A107: a2.4 …intègre les prescriptions et les principes directeurs de l'établissement dans sa réflexion. (C4) | C107: Fait référence aux prescriptions et principes directeurs de l’institution dans sa réflexion | K107: 0
C114: Montre comment les prescriptions et principes directeurs de l’institution ont influencé son action | K114: 0
A131: Objectifs évaluateurs | C131: Critères | E131: Remarques | K131: Points
A132: Rôle professionnel
A133: a1.8 …défend avec persuasion sa profession vis-à-vis de tiers. (C3) | C133: Mène ses réflexions et communique en ayant toujours conscience de son rôle professionnel | K133: 0
C138: Défend avec persuasion ses actions et ses rôles professionnels vis-à-vis de tiers | K138: 0
C143: Justifie ses actions de manière compréhensible et correcte sur le plan professionnel | K143: 0
A156: Objectifs évaluateurs | C156: Critères | E156: Remarques | K156: Points
A157: Rôle professionnel
A158: a2.6 …défend ses opinions personnelles de manière appropriée et explique comment il/elle soutient certaines décisions. (C3) | C158: Questionne les décisions prises et en tire des enseignements pour l’avenir | K158: 0
C163: Justifie les décisions de manière professionnelle et souligne leur impact sur les personnes accompagnées et/ou l'équipe. | K163: 0
C168: Défend ses opinions personnelles de manière nuancée | K168: 0
J173: Total | K173: =K6+K12+K18+K33+K38+K43+K48+K56+K62+K68+K81+K86+K91+K96+K107+K114+K133+K138+K143+K158+K163+K168 -> 0
A181: Résultat entretien professionnel (point d’appréciation 2)
...

Sheet Hilfsblatt 1
A2: Situation du quotidien
A3: objectifs évaluateurs à choix | B3: critère 1 | C3: 2 | D3: 3
A4: sélectionner un objectif | B4: _ | C4: _ | D4: _
A5: b6.7 … profite des repas pour entretenir les relations et contribue à la communication positive. (C3) | B5: Encourage une communication positive en abordant des sujets qui concernent les personnes accompagnées | C5: Favorise des interactions respectueuses entre tout le monde | D5: Est présent-e et attentif-ve pendant toute la durée du repas
A6: b5.2 … encourage l’autonomie et l’autodétermination des personnes accompagnées en ce qui concerne les tâches d’économie domestique, et tient compte de leurs aptitudes. (C3) | B6: Intègre les ressources des personnes accompagnées dans la situation du quotidien | C6: Implique les personnes accompagnées dans des tâches d'économie domestique | D6: Valorise la participation des personnes accompagnées de façon conforme à la situation
A7: f11.1 … met en œuvre des prestations destinées à des personnes individuelles ou à des groupes. (C3) | B7: Conçoit la situation du quotidien en adéquation avec les compétences des personnes accompagnées | C7: Adapte la situation du quotidien au rythme des personnes accompagnées | D7: Adopte une attitude bienveillante pendant toute la durée de la situation du quotidien
A9: Valorisation des ressources des personnes accompagnées
A10: objectifs évaluateurs à choix | B10: critère 1 | C10: 2 | D10: 3
A11: sélectionner un objectif | B11: _ | C11: _ | D11: _
A12: b2.2 … perçoit les besoins et l’état de forme des différentes personnes accompagnées et adapte le soutien en conséquence. (C4) | B12: Adapte la mise en œuvre de la planification au rythme des personnes accompagnées | C12: Encourage le sentiment d’efficacité personnelle | D12: Contribue à maintenir un climat positif
A13: f11.3 … agit de manière flexible lors de la réalisation de prestations et les adapte en fonction de l’état d’esprit actuel de la personne accompagnée, ou propose des alternatives. (C4) | B13: Tient compte judicieusement des ressources des personnes accompagnées en fonction de leur état d'esprit actuel | C13: Adapte l’activité de manière appropriée en fonction de l’état d’esprit actuel des personnes accompagnées | D13: Propose des alternatives appropriées pour préserver ou favoriser les ressources des personnes accompagnées
A17: Relation professionnelle
A18: objectifs évaluateurs à choix | B18: critère 1 | C18: 2 | D18: 3
A19: sélectionner un objectif | B19: _ | C19: _ | D19: _
A20: c1.1 … accompagne et encourage les personnes accompagnées à participer à la vie sociale et culturelle. (C3) | B20: Choisit des activités permettant la participation des personnes accom-pagnées à la vie sociale et leur inclusion, dans leur environ-nement habituel ou à l'extérieur de celui-ci | C20: Adapte les mesures de soutien de manière à permettre une participation aussi autonome que possible | D20: Respecte le besoin de participation sociale en tenant compte du rythme individuel de chaque personne accompagnée
A21: c1.3 … associe la famille et d’autres personnes à l’accompagnement et à des activités. (C3) | B21: Favorise une collaboration respectueuse avec les proches et/ou les collaborateurs-trices | C21: Agit de manière conforme à son rôle dans les contacts avec les proches et/ou les collaborateurs-trices | D21: Structure la situation d’accompagnement de manière claire et coopérative pour les proches et/ou les collaborateurs-trices
